BEGIN:VCALENDAR
VERSION:2.0
PRODID:-//Guam Society of America, Inc. - ECPv6.15.20//NONSGML v1.0//EN
CALSCALE:GREGORIAN
METHOD:PUBLISH
X-ORIGINAL-URL:https://guamsocietyinc.org
X-WR-CALDESC:Events for Guam Society of America, Inc.
REFRESH-INTERVAL;VALUE=DURATION:PT1H
X-Robots-Tag:noindex
X-PUBLISHED-TTL:PT1H
BEGIN:VTIMEZONE
TZID:America/New_York
BEGIN:DAYLIGHT
TZOFFSETFROM:-0500
TZOFFSETTO:-0400
TZNAME:EDT
DTSTART:20250309T070000
END:DAYLIGHT
BEGIN:STANDARD
TZOFFSETFROM:-0400
TZOFFSETTO:-0500
TZNAME:EST
DTSTART:20251102T060000
END:STANDARD
BEGIN:DAYLIGHT
TZOFFSETFROM:-0500
TZOFFSETTO:-0400
TZNAME:EDT
DTSTART:20260308T070000
END:DAYLIGHT
BEGIN:STANDARD
TZOFFSETFROM:-0400
TZOFFSETTO:-0500
TZNAME:EST
DTSTART:20261101T060000
END:STANDARD
BEGIN:DAYLIGHT
TZOFFSETFROM:-0500
TZOFFSETTO:-0400
TZNAME:EDT
DTSTART:20270314T070000
END:DAYLIGHT
BEGIN:STANDARD
TZOFFSETFROM:-0400
TZOFFSETTO:-0500
TZNAME:EST
DTSTART:20271107T060000
END:STANDARD
END:VTIMEZONE
BEGIN:VEVENT
DTSTART;TZID=America/New_York:20260509T120000
DTEND;TZID=America/New_York:20260509T143000
DTSTAMP:20260423T100122
CREATED:20260124T154959Z
LAST-MODIFIED:20260124T154959Z
UID:4471-1778328000-1778337000@guamsocietyinc.org
SUMMARY:2nd Quarter\, 2026 General Membership Meeting
DESCRIPTION:
URL:https://guamsocietyinc.org/event/2nd-quarter-2026-general-membership-meeting/
LOCATION:TBD/Online\, United States
ORGANIZER;CN="Guam Society of America%2C Inc.":MAILTO:info@guamsocietyinc.org
END:VEVENT
BEGIN:VEVENT
DTSTART;TZID=America/New_York:20260715T080000
DTEND;TZID=America/New_York:20260715T100000
DTSTAMP:20260423T100122
CREATED:20260124T155344Z
LAST-MODIFIED:20260124T155344Z
UID:4473-1784102400-1784109600@guamsocietyinc.org
SUMMARY:Guam Congressional Office Liberation Wreath Laying
DESCRIPTION:
URL:https://guamsocietyinc.org/event/guam-congressional-office-liberation-wreath-laying/
LOCATION:Arlington National Cemetery\, 1 Wilson Ave\, Arlington National Cemetery\, Arlington\, VA\, 22211\, United States
END:VEVENT
BEGIN:VEVENT
DTSTART;TZID=America/New_York:20260718T120000
DTEND;TZID=America/New_York:20260718T173000
DTSTAMP:20260423T100122
CREATED:20260124T155510Z
LAST-MODIFIED:20260124T155510Z
UID:4476-1784376000-1784395800@guamsocietyinc.org
SUMMARY:2026 Guam Society Liberation Picnic
DESCRIPTION:
URL:https://guamsocietyinc.org/event/2026-guam-society-liberation-picnic/
LOCATION:Fort Hunt National Park\, Alexandria\, VA
ORGANIZER;CN="Guam Society of America%2C Inc.":MAILTO:info@guamsocietyinc.org
END:VEVENT
BEGIN:VEVENT
DTSTART;TZID=America/New_York:20260808T120000
DTEND;TZID=America/New_York:20260808T140000
DTSTAMP:20260423T100122
CREATED:20260124T155616Z
LAST-MODIFIED:20260124T155616Z
UID:4479-1786190400-1786197600@guamsocietyinc.org
SUMMARY:3rd Quarter\, 2026 Executive Board Meeting
DESCRIPTION:
URL:https://guamsocietyinc.org/event/3rd-quarter-2026-executive-board-meeting/
LOCATION:TBD/Online\, United States
ORGANIZER;CN="Guam Society of America%2C Inc.":MAILTO:info@guamsocietyinc.org
END:VEVENT
BEGIN:VEVENT
DTSTART;TZID=America/New_York:20260904T070000
DTEND;TZID=America/New_York:20260904T150000
DTSTAMP:20260423T100122
CREATED:20260124T155739Z
LAST-MODIFIED:20260124T155739Z
UID:4481-1788505200-1788534000@guamsocietyinc.org
SUMMARY:2026 Roberto LG Lizama Memorial Golf Classic and Fiesta
DESCRIPTION:
URL:https://guamsocietyinc.org/event/2026-roberto-lg-lizama-memorial-golf-classic-and-fiesta/
LOCATION:The Courses at Joint Base Andrews\, 4442 West Perimeter Road\, Joint Base Andrews\, MD\, 20762\, United States
ORGANIZER;CN="Guam Society of America%2C Inc.":MAILTO:info@guamsocietyinc.org
END:VEVENT
BEGIN:VEVENT
DTSTART;TZID=America/New_York:20260919T120000
DTEND;TZID=America/New_York:20260919T143000
DTSTAMP:20260423T100122
CREATED:20260124T155918Z
LAST-MODIFIED:20260124T155932Z
UID:4483-1789819200-1789828200@guamsocietyinc.org
SUMMARY:3rd Quarter\, 2026 General Membership Meeting (Nomination for 2027-2028 Guam Society Officers)
DESCRIPTION:
URL:https://guamsocietyinc.org/event/3rd-quarter-2026-general-membership-meeting-nomination-for-2027-2028-guam-society-officers/
LOCATION:TBD/Online\, United States
ORGANIZER;CN="Guam Society of America%2C Inc.":MAILTO:info@guamsocietyinc.org
END:VEVENT
BEGIN:VEVENT
DTSTART;TZID=America/New_York:20261003T120000
DTEND;TZID=America/New_York:20261003T140000
DTSTAMP:20260423T100122
CREATED:20260124T160038Z
LAST-MODIFIED:20260124T160038Z
UID:4485-1791028800-1791036000@guamsocietyinc.org
SUMMARY:4th Quarter\, 2026 Executive Board Meeting
DESCRIPTION:
URL:https://guamsocietyinc.org/event/4th-quarter-2026-executive-board-meeting/
LOCATION:TBD/Online\, United States
END:VEVENT
BEGIN:VEVENT
DTSTART;TZID=America/New_York:20261010T170000
DTEND;TZID=America/New_York:20261010T230000
DTSTAMP:20260423T100122
CREATED:20260124T160158Z
LAST-MODIFIED:20260124T160158Z
UID:4487-1791651600-1791673200@guamsocietyinc.org
SUMMARY:2026 Chamorro Night
DESCRIPTION:
URL:https://guamsocietyinc.org/event/2026-chamorro-night/
LOCATION:Odenton Volunteer Fire Dept (Tentative)
ORGANIZER;CN="Guam Society of America%2C Inc.":MAILTO:info@guamsocietyinc.org
END:VEVENT
BEGIN:VEVENT
DTSTART;TZID=America/New_York:20261121T120000
DTEND;TZID=America/New_York:20261121T150000
DTSTAMP:20260423T100122
CREATED:20260124T160333Z
LAST-MODIFIED:20260124T160333Z
UID:4490-1795262400-1795273200@guamsocietyinc.org
SUMMARY:4th Quarter\, 2026 General Membership Meeting (2027-2028 Election Results)
DESCRIPTION:
URL:https://guamsocietyinc.org/event/4th-quarter-2026-general-membership-meeting-2027-2028-election-results/
LOCATION:TBD/Online\, United States
ORGANIZER;CN="Guam Society of America%2C Inc.":MAILTO:info@guamsocietyinc.org
END:VEVENT
BEGIN:VEVENT
DTSTART;TZID=America/New_York:20261130T180000
DTEND;TZID=America/New_York:20261207T200000
DTSTAMP:20260423T100122
CREATED:20260124T160511Z
LAST-MODIFIED:20260124T160511Z
UID:4492-1796061600-1796673600@guamsocietyinc.org
SUMMARY:2026 Santa Marian Kamalen Novenas (Times Tentative - Schedule To Be Published)
DESCRIPTION:
URL:https://guamsocietyinc.org/event/2026-santa-marian-kamalen-novenas-times-tentative-schedule-to-be-published/
LOCATION:Various Locations\, United States
ORGANIZER;CN="Guam Society of America%2C Inc.":MAILTO:info@guamsocietyinc.org
END:VEVENT
BEGIN:VEVENT
DTSTART;TZID=America/New_York:20261208T103000
DTEND;TZID=America/New_York:20261208T130000
DTSTAMP:20260423T100122
CREATED:20260124T160617Z
LAST-MODIFIED:20260124T160618Z
UID:4494-1796725800-1796734800@guamsocietyinc.org
SUMMARY:2026 Santa Marian Kamalen Final Novena and Mass
DESCRIPTION:
URL:https://guamsocietyinc.org/event/2026-santa-marian-kamalen-final-novena-and-mass/
LOCATION:Basilica of the National Shrine of the Immaculate Conception\, 400 Michigan Ave NE\, Washington\, DC 20017\, Washington\, DC\, 20017\, United States
ORGANIZER;CN="Guam Society of America%2C Inc.":MAILTO:info@guamsocietyinc.org
END:VEVENT
BEGIN:VEVENT
DTSTART;TZID=America/New_York:20261219T120000
DTEND;TZID=America/New_York:20261219T170000
DTSTAMP:20260423T100122
CREATED:20260124T160715Z
LAST-MODIFIED:20260124T160715Z
UID:4496-1797681600-1797699600@guamsocietyinc.org
SUMMARY:2026 Christmas/Holiday Party
DESCRIPTION:
URL:https://guamsocietyinc.org/event/2026-christmas-holiday-party/
LOCATION:Fort Belvoir Community Center\, 10300 Taylor Road\, Fort Belvoir\, Virginia 22060\, 10300 Taylor Road\, Fort Belvoir\, VA\, United States
ORGANIZER;CN="Guam Society of America%2C Inc.":MAILTO:info@guamsocietyinc.org
END:VEVENT
END:VCALENDAR