BEGIN:VCALENDAR
VERSION:2.0
PRODID:-//Guam Society of America, Inc. - ECPv6.15.20//NONSGML v1.0//EN
CALSCALE:GREGORIAN
METHOD:PUBLISH
X-ORIGINAL-URL:https://guamsocietyinc.org
X-WR-CALDESC:Events for Guam Society of America, Inc.
REFRESH-INTERVAL;VALUE=DURATION:PT1H
X-Robots-Tag:noindex
X-PUBLISHED-TTL:PT1H
BEGIN:VTIMEZONE
TZID:America/New_York
BEGIN:DAYLIGHT
TZOFFSETFROM:-0500
TZOFFSETTO:-0400
TZNAME:EDT
DTSTART:20220313T070000
END:DAYLIGHT
BEGIN:STANDARD
TZOFFSETFROM:-0400
TZOFFSETTO:-0500
TZNAME:EST
DTSTART:20221106T060000
END:STANDARD
BEGIN:DAYLIGHT
TZOFFSETFROM:-0500
TZOFFSETTO:-0400
TZNAME:EDT
DTSTART:20230312T070000
END:DAYLIGHT
BEGIN:STANDARD
TZOFFSETFROM:-0400
TZOFFSETTO:-0500
TZNAME:EST
DTSTART:20231105T060000
END:STANDARD
BEGIN:DAYLIGHT
TZOFFSETFROM:-0500
TZOFFSETTO:-0400
TZNAME:EDT
DTSTART:20240310T070000
END:DAYLIGHT
BEGIN:STANDARD
TZOFFSETFROM:-0400
TZOFFSETTO:-0500
TZNAME:EST
DTSTART:20241103T060000
END:STANDARD
BEGIN:DAYLIGHT
TZOFFSETFROM:-0500
TZOFFSETTO:-0400
TZNAME:EDT
DTSTART:20250309T070000
END:DAYLIGHT
BEGIN:STANDARD
TZOFFSETFROM:-0400
TZOFFSETTO:-0500
TZNAME:EST
DTSTART:20251102T060000
END:STANDARD
END:VTIMEZONE
BEGIN:VTIMEZONE
TZID:UTC
BEGIN:STANDARD
TZOFFSETFROM:+0000
TZOFFSETTO:+0000
TZNAME:UTC
DTSTART:20220101T000000
END:STANDARD
END:VTIMEZONE
BEGIN:VEVENT
DTSTART;TZID=America/New_York:20240710T080000
DTEND;TZID=America/New_York:20240710T093000
DTSTAMP:20260423T160924
CREATED:20240210T182917Z
LAST-MODIFIED:20240706T055437Z
UID:3423-1720598400-1720603800@guamsocietyinc.org
SUMMARY:2024 Guam Congressional Office Wreath Laying Ceremony
DESCRIPTION:The Guam Society of America\, Inc. and the Guam Congressional Office invite you to attend the Guam Liberation Day Wreath Laying Ceremony on Wednesday\, July 10\, 2024 at the World War II Memorial\, 1750 Independence Avenue SW\, Washington\, DC 20024.   \nThis year’s wreath laying ceremony commemorates the 80th Anniversary of the Liberation of Guam and is hosted by Guam Congressional Delegate\, Congressman James C. Moylan and sponsored by the Guam Society of America\, Inc..    \nThe ceremony will begin at 8:00 a.m. and is open to the public.   The Keynote Speaker will be the Commandant of the United States Marine Corps\, General Eric M. Smith.    \nThe ceremony will be attended by members of Congress\, and various dignitaries and VIPs from Washington\, D.C. and Guam with performance by the Kutturan Chamoru Foundation. \nPlease arrive early as parking is limited around the World War II Memorial.  The ceremony will be held in front of the Guam Pillar at the Memorial. \nPlease contact (202) 525-9021 or email communications@guamsocietyinc.org for additional information or to answer any questions you may have about the event.   
URL:https://guamsocietyinc.org/event/2024-guam-congressional-office-wreath-laying-ceremony/
LOCATION:World War II Memorial\, 1750 Independence Ave SW\, Washington\, DC\, 20024\, United States
END:VEVENT
BEGIN:VEVENT
DTSTART;TZID=America/New_York:20240518T130000
DTEND;TZID=America/New_York:20240518T140000
DTSTAMP:20260423T160924
CREATED:20240210T182040Z
LAST-MODIFIED:20240210T182359Z
UID:3416-1716037200-1716040800@guamsocietyinc.org
SUMMARY:2nd Quarter\, 2024 General Membership Meeting
DESCRIPTION:Information to be provided. \nThis meeting will announce call for nominations for officers for the Guam Society 2025-2026 Administration.
URL:https://guamsocietyinc.org/event/2nd-quarter-2024-general-membership-meeting/
LOCATION:TBD
END:VEVENT
BEGIN:VEVENT
DTSTART;TZID=America/New_York:20240406T180000
DTEND;TZID=America/New_York:20240406T220000
DTSTAMP:20260423T160924
CREATED:20240121T222817Z
LAST-MODIFIED:20240123T232557Z
UID:3395-1712426400-1712440800@guamsocietyinc.org
SUMMARY:2024 | Cherry Blossom Princess Coronation Ball
DESCRIPTION:Purchase tickets at:\nhttps://givebutter.com/c/4NKTTk
URL:https://guamsocietyinc.org/event/2024-cherry-blossom-princess-coronation-ball/
LOCATION:Country Club of Fairfax\, 5110 Ox Road\, Fairfax\, 22030\, United States
END:VEVENT
BEGIN:VEVENT
DTSTART;TZID=America/New_York:20240210T130000
DTEND;TZID=America/New_York:20240210T140000
DTSTAMP:20260423T160924
CREATED:20240210T181845Z
LAST-MODIFIED:20240210T181845Z
UID:3413-1707570000-1707573600@guamsocietyinc.org
SUMMARY:1st Quarter\, 2024 General Membership Meeting
DESCRIPTION:This first General Membership meeting of the year is being hosted in person and online via Zoom. Who: Active Guam Society Members What: 1st Quarter General Membership Meeting Where: Smith Residence 7911 Station Dr Upper Marlboro\, Maryland\, 20772 and via Zoom<https://u32821135.ct.sendgrid.net/ls/click?upn=WWfEU2jnWlYoKYZSa-2B-2FUEWb5FywKLl-2Fl7Fw3h9QAoyeZh-2BN-2BVPB8Ihf4q7x0e8b5-2F8hiMkPepIpb5B5zdpT64EVnH6egJJtwrG59eeqw9V10cezQD57WIKVmJn797MXFGgOe_MqESBg9q-2F4zYVUBmo-2FPRDzSbuV-2F-2FONkrUSYSP9mnKpeRyaXr1UDJ25Znr2cy8ekP9VNH6o2Kp2-2BKryfcS2NZTEbdC9cy0rIR4KLjmv3CG4m1K1kn5nwqtnussHQP63BuJhw4cysliouCHBxE26uJEIxcIPFXGpDEZvOtoZLwV39Sm0FxjkYLZwht8Zq6BlD-2Fu-2FyqlgbeDwUcne3RtKebs26EVPp8Hn6t4chT5rfeoXs1yG12CL2-2BBWT5BnHDJ4o5RL8R-2Fojg2WXQ5q6tfPRhIp3BIb15xJRHsN6-2FuO2wtZD2EQ6lWn0fvq99sg4v83FsJ8H3BwjJcgKInzgg-2Bj1BIlk-2F-2FKuNMcCzGCkPzZmDobXD4TpHF8ItojOGQOK8MCv5> (online or teleconference) When: Saturday\, February 10\, 2024 from 1:00PM – 2:00PM An follow-up message will be sent with audio teleconference information for those who would like to join by cell phone/mobile device. Join Zoom Meeting Meeting ID: 928 2447 7489 Invite Link: https://zoom.us/j/92824477489?pwd=RG9pdlQ1L25PR2p2enlMM1dPUEw4QT09<https://u32821135.ct.sendgrid.net/ls/click?upn=WWfEU2jnWlYoKYZSa-2B-2FUETK8q15s4wroE4IVPlHWLI9CBgGpS7iyj7feNX0volNM29nAjujRIQZBCcKhTTSd3u9Xd-2F1NgcQv4qdoDBEBidMrOGr5zzfVdN75S-2F11ZjyNhOmQ_MqESBg9q-2F4zYVUBmo-2FPRDzSbuV-2F-2FONkrUSYSP9mnKpeRyaXr1UDJ25Znr2cy8ekP9VNH6o2Kp2-2BKryfcS2NZTEbdC9cy0rIR4KLjmv3CG4m1K1kn5nwqtnussHQP63BuJhw4cysliouCHBxE26uJEIxcIPFXGpDEZvOtoZLwV39Sm0FxjkYLZwht8Zq6BlD-2Fu-2FyqlgbeDwUcne3RtKebs26EVPp8Hn6t4chT5rfeoXucjcUWCDETrd-2B-2FOghiIt6fddhu6eJWC5fpyiA4E6rNKKeb4AUSKXy7ffEQlULRRoKS3K1O7iBYMzlNbx4DNV381iO1T-2BUmf819KuoIKk66npwU1oXD6XAysPRM4w-2FPqDlS68kavohZ4VgBTE4v3MS1>   Our Contact Information Guam Society of America\, Inc. 1100 New Jersey Ave SE #2187 Washington\, DC 20003 8036731566
URL:https://guamsocietyinc.org/event/1st-quarter-2024-general-membership-meeting/
LOCATION:Residence of Danny and Teri Smith\, 7911 Station Drive\, Upper Marlboro\, MD. 20772\, 7911 Station Drive\, Upper Marlboro\, MD\, 20772\, United States
END:VEVENT
BEGIN:VEVENT
DTSTART;VALUE=DATE:20231130
DTEND;VALUE=DATE:20231209
DTSTAMP:20260423T160924
CREATED:20220601T040338Z
LAST-MODIFIED:20231115T215612Z
UID:1069-1701302400-1702079999@guamsocietyinc.org
SUMMARY:2023 | Santa Marian Kamalen Novenas and Mass
DESCRIPTION:Thursday\, November 30\, 2023 @ 6:00 p.m. – Residence of Madeleine Z. Bordallo\, 2510 Virginia Ave NW #305\, Washington\, DC 20037 (571-329-0110) \nFriday\, December 1\, 2023 @ 7:00 p.m. – Residence of Sy & Lola Sanchez\, 12172 Derriford Court\, Woodbridge\, VA 22191 (571-439-4060) \nSaturday\, December 2\, 2023 @ 2:00 p.m. – Residence of Bruce & Linda Goodman\, 2003 Brigadier Blvd.\, Odenton\, MD 21113 (410-269-3675) \nSunday\, December 3\, 2023 @ 3:00 p.m. – Residence of Char & Mel Harris and Ms. Annie Rosario\, 226 Marina View Court\, Baltimore\, MD 21221 (443-616-8743) \nMonday\, December 4\, 2023 @ 7:00 p.m. – Residence of Frank & Rosanne Mantanona\, 3924 Red Bird Lane\, Woodbridge\, VA 22193 (571-329-0110) \nTuesday\, December 5\, 2023 @ 6 p.m. – Residence of Joe & Jane Espinosa\, 28 Liberty Knolls Drive\, Stafford\, VA 22554 (home 540-720-3396\, cell 540-318-9113) \nWednesday\, December 6\, 2023 @ 7:00 p.m. – Residence of Ed & Doris Yanger\, 4902 Chipper Lane\, Fairfax\, VA 22302 (571-251-1487) \nThursday\, December 7\, 2023 @ 7:00 p.m. – Residence of Mike & Juvy Blas\, 2842 Sweet Gum Court\, Woodbridge\, VA 22192 (202-525-9021) \nSanta Marian Kamalen Feast Day Novena & Mass – Friday\, December 8\, 2023\nLocation:  Basilica of the National Shrine of the Immaculate Conception\, 400 Michigan Avenue NW\, Washington\, D.C. 20017 \n11:00 a.m. – 11:30 a.m. –  Final Novena at the Immaculate Heart of Mary Chapel @ The Basilica \n11:45 a.m. – Proceed upstairs to Upper Church for the Mass \n12:10 p.m. – Mass for the Solemnity of the Immaculate Concepcion  \n2:00 p.m. – Luncheon @ Sala Thai Restaurant\, 2300 Washington Place NE\, Washington\, D.C. 20018. Kindly RSVP by December 6th to Rosanne Mantanona at santamariankamalen@guamsocietyinc.org or at 571-329-0110.
URL:https://guamsocietyinc.org/event/santa-marian-kamalen-nobenas/
END:VEVENT
BEGIN:VEVENT
DTSTART;TZID=UTC:20231118T130000
DTEND;TZID=UTC:20231118T150000
DTSTAMP:20260423T160924
CREATED:20220601T035032Z
LAST-MODIFIED:20230520T202902Z
UID:1060-1700312400-1700319600@guamsocietyinc.org
SUMMARY:2023 | 4th Quarter General Membership Meeting
DESCRIPTION:Location:  Fort Belvoir Community Center 10300 Taylor Rd\, Fort Belvoir\, VA\, United States\n\n\nZoom Link will be sent via email. \nMinutes and Agenda TBP.
URL:https://guamsocietyinc.org/event/4th-quarter-2023-general-membership-meeting/
END:VEVENT
BEGIN:VEVENT
DTSTART;TZID=America/New_York:20231109T080000
DTEND;TZID=America/New_York:20231109T170000
DTSTAMP:20260423T160924
CREATED:20230901T212650Z
LAST-MODIFIED:20230901T212650Z
UID:3053-1699516800-1699549200@guamsocietyinc.org
SUMMARY:November Communications Committee Meeting
DESCRIPTION:The Communications Committee meets via Zoom on the 2nd Thursday of every month. \nIf you’re interested in joining the Communications Committee\, please email communications@guamsocietyinc.org or webmaster@guamsocietyinc.org for more information.
URL:https://guamsocietyinc.org/event/2023-11-09-communications-committee-meeting/
LOCATION:Online
END:VEVENT
BEGIN:VEVENT
DTSTART;TZID=UTC:20231104T170000
DTEND;TZID=UTC:20231104T220000
DTSTAMP:20260423T160924
CREATED:20230310T052826Z
LAST-MODIFIED:20230310T052826Z
UID:2048-1699117200-1699135200@guamsocietyinc.org
SUMMARY:2023 | Guam Society of America Chamorro Night
DESCRIPTION:
URL:https://guamsocietyinc.org/event/2023-guam-society-of-america-chamorro-night/
END:VEVENT
BEGIN:VEVENT
DTSTART;TZID=America/New_York:20231012T180000
DTEND;TZID=America/New_York:20231012T200000
DTSTAMP:20260423T160924
CREATED:20230901T212332Z
LAST-MODIFIED:20230901T212659Z
UID:3050-1697133600-1697140800@guamsocietyinc.org
SUMMARY:October Communications Committee Meeting
DESCRIPTION:The Communications Committee meets via Zoom on the 2nd Thursday of every month. \nIf you’re interested in joining the Communications Committee\, please email communications@guamsocietyinc.org or webmaster@guamsocietyinc.org for more information.
URL:https://guamsocietyinc.org/event/2023-10-12-communications-committee-meeting/
LOCATION:Online
END:VEVENT
BEGIN:VEVENT
DTSTART;TZID=America/New_York:20230914T180000
DTEND;TZID=America/New_York:20230914T200000
DTSTAMP:20260423T160924
CREATED:20230819T210857Z
LAST-MODIFIED:20230901T212344Z
UID:2898-1694714400-1694721600@guamsocietyinc.org
SUMMARY:September Communications Committee Meeting
DESCRIPTION:The Communications Committee meets via Zoom on the 2nd Thursday of every month. \nIf you’re interested in joining the Communications Committee\, please email communications@guamsocietyinc.org or webmaster@guamsocietyinc.org for more information.
URL:https://guamsocietyinc.org/event/2023-09-14-communications-committee-meeting/
LOCATION:Online
END:VEVENT
BEGIN:VEVENT
DTSTART;TZID=UTC:20230901T070000
DTEND;TZID=UTC:20230901T150000
DTSTAMP:20260423T160924
CREATED:20220601T035434Z
LAST-MODIFIED:20230811T195109Z
UID:1062-1693551600-1693580400@guamsocietyinc.org
SUMMARY:2023 | Robert L.G. Lizama Golf Tournament
DESCRIPTION:
URL:https://guamsocietyinc.org/event/robert-l-g-lizama-golf-tournament/
LOCATION:The Courses at Andrews\, 4442 W Perimeter Rd\, Joint Base Andrews\, MD\, 20762\, United States
END:VEVENT
BEGIN:VEVENT
DTSTART;TZID=UTC:20230819T130000
DTEND;TZID=UTC:20230819T150000
DTSTAMP:20260423T160924
CREATED:20220601T033925Z
LAST-MODIFIED:20230520T202734Z
UID:1052-1692450000-1692457200@guamsocietyinc.org
SUMMARY:2023 | 3rd Quarter General Membership Meeting
DESCRIPTION:Location:  Fort Belvoir Community Center 10300 Taylor Rd\, Fort Belvoir\, VA\, United States\n\n\nZoom Link will be sent via email. \nMinutes and Agenda TBP.
URL:https://guamsocietyinc.org/event/3rd-quarter-2023-general-membership-meeting/
END:VEVENT
BEGIN:VEVENT
DTSTART;TZID=UTC:20230715T120000
DTEND;TZID=UTC:20230715T180000
DTSTAMP:20260423T160924
CREATED:20230118T070215Z
LAST-MODIFIED:20230524T062007Z
UID:1728-1689422400-1689444000@guamsocietyinc.org
SUMMARY:2023 Guam Society of America Liberation Picnic
DESCRIPTION:2023-liberation-picnic
URL:https://guamsocietyinc.org/event/2023-guam-society-of-america-liberation-picnic/
LOCATION:Fort Hunt Park\, George Washington Memorial Pkwy\, Alexandria\, VA\, 22308\, United States
END:VEVENT
BEGIN:VEVENT
DTSTART;TZID=UTC:20230713T080000
DTEND;TZID=UTC:20230713T090000
DTSTAMP:20260423T160924
CREATED:20220601T032633Z
LAST-MODIFIED:20230708T062527Z
UID:1044-1689235200-1689238800@guamsocietyinc.org
SUMMARY:2023 | Liberation Wreath Laying Ceremony
DESCRIPTION:
URL:https://guamsocietyinc.org/event/liberation-wreath-laying-ceremony/
LOCATION:World War II Memorial\, 1750 Independence Ave SW\, Washington\, DC\, 20024\, United States
ATTACH;FMTTYPE=image/jpeg:https://guamsocietyinc.org/wp-content/uploads/2022/05/2023-Wreath-Laying-Flyer.jpg
END:VEVENT
BEGIN:VEVENT
DTSTART;TZID=UTC:20230520T130000
DTEND;TZID=UTC:20230520T140000
DTSTAMP:20260423T160924
CREATED:20230126T215049Z
LAST-MODIFIED:20230520T202539Z
UID:1854-1684587600-1684591200@guamsocietyinc.org
SUMMARY:2023 | 2nd Quarter General Membership Meeting
DESCRIPTION:Zoom Link will be sent via email. \nMinutes and Agenda TBP.
URL:https://guamsocietyinc.org/event/2023-2nd-quarter-general-membership-meeting/
END:VEVENT
BEGIN:VEVENT
DTSTART;TZID=UTC:20230328T173000
DTEND;TZID=UTC:20230328T193000
DTSTAMP:20260423T160924
CREATED:20230310T041906Z
LAST-MODIFIED:20230310T041906Z
UID:2031-1680024600-1680031800@guamsocietyinc.org
SUMMARY:
DESCRIPTION:University of Guam President Thomas Krise is inviting UOG Alumni to attend an event on March 28\, 2023. This is an excellent opportunity to hear from the president about UOG initiatives. Our partnership with UOG over the years continues to grow as our GSA recently started contributing to the UOG ROTC program. Our GSA Officers will also provide GSA officer\, event and membership information during this event.\n\nDue to limitations at the venue\, seating is limited and on a first come first serve basis. If you are interested\, please send an email to our Guam Society point of contact for this event immediately to reserve your seat.\n\nGSA POC: Julie Cruz \nEmail: tonjulie@hotmail.com\n\n\n\nEvent Date: 28 March 2023 (Tuesday)\nTime: 5:30-7:30 p.m.\nLocation: The Implementation Group\n  800 Maine Avenue\, SW\n  Washington\, D.C. 20024\n  Washington Conference Room – can host up to 28 seats\n\n\nTentative Agenda: \n5:30 pm: Guests arrive – Meet & Greet\n5:45 pm: Welcome remarks\n6:00 pm: UOG update by Thomas W. Krise\n6:30 pm: Special Presentation\n6:45 pm: Remarks from Congressman Moylan\n7:00 pm: Fellowship\n7:30 pm: Guest Depart \n\nParking is available in the garage:\n\nThe daily parking rates follow:\n0-1/2 hour: $5.00\n½ to 1 hour: $10\n1-2 hours: $20\n2-3 hours: $26\n3-4 hours: $31\n4-12 hours: $39\n12-24 hours: $60
URL:https://guamsocietyinc.org/event/2031/
LOCATION:The Implementation Group\, 800 Maine Avenue SW\, Washington\, DC\, 20024\, United States
ORGANIZER;CN="The Implementation Group (Eleanor Bowling)":MAILTO:ebowling@tigdc.com
END:VEVENT
BEGIN:VEVENT
DTSTART;TZID=UTC:20230211T110000
DTEND;TZID=UTC:20230211T160000
DTSTAMP:20260423T160924
CREATED:20230118T080703Z
LAST-MODIFIED:20230126T215505Z
UID:1765-1676113200-1676131200@guamsocietyinc.org
SUMMARY:2023 | 1st Quarter General Membership Meeting
DESCRIPTION:Please join us at our first quarter general membership meeting of 2023. This will be an in-person and virtual event. Members should have received an email containing the Zoom meeting link. If you’re a member and did not receive the email\, contact info@guamsocietyinc.org \nInterested in becoming a member? Find more information here.
URL:https://guamsocietyinc.org/event/2023-1st-quarter-general-membership-meeting/
LOCATION:Woodlawn Community Center\, 5375 Dairy Court\, Fort Belvoir\, VA\, 22060\, United States
END:VEVENT
END:VCALENDAR