BEGIN:VCALENDAR
VERSION:2.0
PRODID:-//Guam Society of America, Inc. - ECPv6.15.20//NONSGML v1.0//EN
CALSCALE:GREGORIAN
METHOD:PUBLISH
X-ORIGINAL-URL:https://guamsocietyinc.org
X-WR-CALDESC:Events for Guam Society of America, Inc.
REFRESH-INTERVAL;VALUE=DURATION:PT1H
X-Robots-Tag:noindex
X-PUBLISHED-TTL:PT1H
BEGIN:VTIMEZONE
TZID:America/New_York
BEGIN:DAYLIGHT
TZOFFSETFROM:-0500
TZOFFSETTO:-0400
TZNAME:EDT
DTSTART:20240310T070000
END:DAYLIGHT
BEGIN:STANDARD
TZOFFSETFROM:-0400
TZOFFSETTO:-0500
TZNAME:EST
DTSTART:20241103T060000
END:STANDARD
BEGIN:DAYLIGHT
TZOFFSETFROM:-0500
TZOFFSETTO:-0400
TZNAME:EDT
DTSTART:20250309T070000
END:DAYLIGHT
BEGIN:STANDARD
TZOFFSETFROM:-0400
TZOFFSETTO:-0500
TZNAME:EST
DTSTART:20251102T060000
END:STANDARD
BEGIN:DAYLIGHT
TZOFFSETFROM:-0500
TZOFFSETTO:-0400
TZNAME:EDT
DTSTART:20260308T070000
END:DAYLIGHT
BEGIN:STANDARD
TZOFFSETFROM:-0400
TZOFFSETTO:-0500
TZNAME:EST
DTSTART:20261101T060000
END:STANDARD
END:VTIMEZONE
BEGIN:VEVENT
DTSTART;TZID=America/New_York:20250103T100000
DTEND;TZID=America/New_York:20250103T113000
DTSTAMP:20260424T094127
CREATED:20250113T202215Z
LAST-MODIFIED:20250113T202215Z
UID:3996-1735898400-1735903800@guamsocietyinc.org
SUMMARY:Oath of Office / Swearing In Ceremony for the 2025-2026 Guam Society Officers
DESCRIPTION:The 2025-2026 Guam Society Officers will take their Oath of Office and be sworn in by the Honorable James C. Moylan\, Guam Congressional Delegate on Friday\, January 3\, 2025.  This will also be Congressman Moylan’s first day in the 119th U.S. Congress and as we’ve done in previous years\, the Guam Society of America partners with his office for this swearing in ceremony and gather to wish him well as he starts his next term serving our people and our island of Guam. \nGuam Society members\, family and friends are invited to attend. \nDate:  Friday\, January 3\, 2025 \nLocation:  Guam Congressional Office\, Room 228\, Cannon House Office Building \nAddress:  27 Independence Ave SE\, Washington\, DC 20003 \nTime:       10:00AM – 11:30AM \nPlease note that this is a new location for the Guam Congressional Office (they are no longer in the Longfellow House Office Building). \nAttendees are welcomed to bring a potluck dish (breakfast/mirienda) for the event.  Please do respond to this email or to (202) 525-9021 to let us know if you are planning to attend and what type of dish you are planning to bring.  \nAttendees are encouraged to use Metro or carpool as public parking will be limited.  We highly encourage that you plan to arrive early because of the many visitors expected on Capitol Hill for this first day of the 119th U.S. Congress. \nUn Dangkula Na Si Yu’us Ma’ase/Thank You to all Guam Society Members and their families – we look forward to a great Guam Society Year in 2025!
URL:https://guamsocietyinc.org/event/oath-of-office-swearing-in-ceremony-for-the-2025-2026-guam-society-officers/
LOCATION:Cannon House Office Building\, 27 Independence Avenue SE\, Washington\, VA\, 20003\, United States
END:VEVENT
BEGIN:VEVENT
DTSTART;TZID=America/New_York:20250118T120000
DTEND;TZID=America/New_York:20250118T143000
DTSTAMP:20260424T094127
CREATED:20250113T203250Z
LAST-MODIFIED:20250113T203250Z
UID:4002-1737201600-1737210600@guamsocietyinc.org
SUMMARY:1st Quarter\, Executive Board Meeting
DESCRIPTION:This will be the first meeting of the 2025 Guam Society Calendar Year and will include all of the Executive Board Members – including current Committee Chairpersons\, Guam Society Officers\, and Executive Board Members as designated by the Guam Society President. \nMeeting will be held via Zoom Conference call (information will be mailed to each Executive Board Member. \nAgenda Items include: \n2025 Calendar of Events \nIntroduction of Executive Board Members \nUpcoming Guam Society Events \nReview of Operating Procedures and Transition Information from the 2023-2024 Administration (i.e. minutes from last general membership meeting\, close out Treasurer Report for 2024) and transition tasks pending\, in progress and completed.
URL:https://guamsocietyinc.org/event/1st-quarter-executive-board-meeting/
LOCATION:Online
ORGANIZER;CN="Guam Society of America%2C Inc.":MAILTO:info@guamsocietyinc.org
END:VEVENT
END:VCALENDAR