BEGIN:VCALENDAR
VERSION:2.0
PRODID:-//Guam Society of America, Inc. - ECPv6.15.20//NONSGML v1.0//EN
CALSCALE:GREGORIAN
METHOD:PUBLISH
X-ORIGINAL-URL:https://guamsocietyinc.org
X-WR-CALDESC:Events for Guam Society of America, Inc.
REFRESH-INTERVAL;VALUE=DURATION:PT1H
X-Robots-Tag:noindex
X-PUBLISHED-TTL:PT1H
BEGIN:VTIMEZONE
TZID:America/New_York
BEGIN:DAYLIGHT
TZOFFSETFROM:-0500
TZOFFSETTO:-0400
TZNAME:EDT
DTSTART:20240310T070000
END:DAYLIGHT
BEGIN:STANDARD
TZOFFSETFROM:-0400
TZOFFSETTO:-0500
TZNAME:EST
DTSTART:20241103T060000
END:STANDARD
BEGIN:DAYLIGHT
TZOFFSETFROM:-0500
TZOFFSETTO:-0400
TZNAME:EDT
DTSTART:20250309T070000
END:DAYLIGHT
BEGIN:STANDARD
TZOFFSETFROM:-0400
TZOFFSETTO:-0500
TZNAME:EST
DTSTART:20251102T060000
END:STANDARD
BEGIN:DAYLIGHT
TZOFFSETFROM:-0500
TZOFFSETTO:-0400
TZNAME:EDT
DTSTART:20260308T070000
END:DAYLIGHT
BEGIN:STANDARD
TZOFFSETFROM:-0400
TZOFFSETTO:-0500
TZNAME:EST
DTSTART:20261101T060000
END:STANDARD
END:VTIMEZONE
BEGIN:VEVENT
DTSTART;TZID=America/New_York:20250208T120000
DTEND;TZID=America/New_York:20250208T140000
DTSTAMP:20260424T081538
CREATED:20250113T203953Z
LAST-MODIFIED:20250201T154911Z
UID:4009-1739016000-1739023200@guamsocietyinc.org
SUMMARY:1st Quarter\, General Membership Meeting
DESCRIPTION:This is the first Guam Society Membership Meeting for 2025.   We encourage all members to attend in person and will have Zoom capability for those who are unable to attend.  (If Zoom connection is weak\, please turn off your video and only use the voice/microphone option on the conference call). \nAgenda: \nIntroduction of 2025-2026 Executive Board \n2024 4th Quarter General Membership Meeting Minutes \n2024 Close Out Treasurer’s Report \n2024 Close Out Reports for 2024 Holiday Party \n2025 Calendar of Events \nUpcoming 2025 Events: \n\n2025 Cherry Blossom Coronation Ball and Cherry Blossom Events\nGolf Committee Meetings for 29 August Golf Tournament\n2025 Congressional Wreath Laying – Arlington National Cemetery\, July 9\, 2025 (Tentative)\n\n2025 Committee Chairperson Vacancies:  Liberation Picnic*\, Chamorro Night\, and Christmas/Holiday Party \n*Need a Co-Chairperson for this event.
URL:https://guamsocietyinc.org/event/1st-quarter-general-membership-meeting/
LOCATION:Twin Oaks Farm Community Clubhouse\, 2798 White Birch Court\, Woodbridge\, VA\, 22192\, United States
ORGANIZER;CN="Guam Society of America%2C Inc.":MAILTO:info@guamsocietyinc.org
END:VEVENT
END:VCALENDAR