BEGIN:VCALENDAR
VERSION:2.0
PRODID:-//Guam Society of America, Inc. - ECPv6.15.20//NONSGML v1.0//EN
CALSCALE:GREGORIAN
METHOD:PUBLISH
X-ORIGINAL-URL:https://guamsocietyinc.org
X-WR-CALDESC:Events for Guam Society of America, Inc.
REFRESH-INTERVAL;VALUE=DURATION:PT1H
X-Robots-Tag:noindex
X-PUBLISHED-TTL:PT1H
BEGIN:VTIMEZONE
TZID:America/New_York
BEGIN:DAYLIGHT
TZOFFSETFROM:-0500
TZOFFSETTO:-0400
TZNAME:EDT
DTSTART:20240310T070000
END:DAYLIGHT
BEGIN:STANDARD
TZOFFSETFROM:-0400
TZOFFSETTO:-0500
TZNAME:EST
DTSTART:20241103T060000
END:STANDARD
BEGIN:DAYLIGHT
TZOFFSETFROM:-0500
TZOFFSETTO:-0400
TZNAME:EDT
DTSTART:20250309T070000
END:DAYLIGHT
BEGIN:STANDARD
TZOFFSETFROM:-0400
TZOFFSETTO:-0500
TZNAME:EST
DTSTART:20251102T060000
END:STANDARD
BEGIN:DAYLIGHT
TZOFFSETFROM:-0500
TZOFFSETTO:-0400
TZNAME:EDT
DTSTART:20260308T070000
END:DAYLIGHT
BEGIN:STANDARD
TZOFFSETFROM:-0400
TZOFFSETTO:-0500
TZNAME:EST
DTSTART:20261101T060000
END:STANDARD
END:VTIMEZONE
BEGIN:VEVENT
DTSTART;TZID=America/New_York:20250306T080000
DTEND;TZID=America/New_York:20250306T170000
DTSTAMP:20260424T064656
CREATED:20250307T020440Z
LAST-MODIFIED:20250307T020440Z
UID:4131-1741248000-1741280400@guamsocietyinc.org
SUMMARY:2025 Roberto LG Lizama Golf Committee Meeting (1st Meeting) - Zoom Conference Call
DESCRIPTION:The first Committee meeting will be held on Thursday\, March 13\, 2025 via Zoom.   If you are interested in attending or joining the committee\, please send an email to golf@guamsocietyinc.org or contact Wayne Lizama\, Committee Chair at (703) 407-2426 for the Zoom Conference Info. \nThis first meeting will lay out the overall plan and schedule of recurring meetings for this year’s tournament.  Volunteers are needed for all aspects of the tournament and the fiesta.  This is the main annual fundraiser for the Guam Society and proceeds generated the Scholarship program as well as the operational account for the organization. \nWe look forward to you joining us.
URL:https://guamsocietyinc.org/event/2025-roberto-lg-lizama-golf-committee-meeting-1st-meeting-zoom-conference-call/
LOCATION:VA
END:VEVENT
BEGIN:VEVENT
DTSTART;TZID=America/New_York:20250329T180000
DTEND;TZID=America/New_York:20250329T220000
DTSTAMP:20260424T064656
CREATED:20250113T204357Z
LAST-MODIFIED:20250321T234321Z
UID:4014-1743271200-1743285600@guamsocietyinc.org
SUMMARY:2025 Cherry Blossom Coronation Ball
DESCRIPTION:The Guam Society Cherry Blossom Coronation Ball for our 2025 Cherry Blossom Princess and Junior Princess will be held on Saturday\, March 29\, 2025\, from 6:00pm-10:00pm at the Country Club of Fairfax\, 5110 Ox Road\, Fairfax\, VA 22030 \n\nThe 2025 Cherry Blossom Coronation Ball promises to be a delightful evening filled with dinner and dancing\, all while supporting the Princesses Melani and Aria. \nNot a current member?  Join online and take advantage of the member ticket price for the event. \nMake sure to secure your tickets by Tuesday\, March 25\, 2025. \n\n \n  \nThe Society would like to congratulate the 2025 Cherry Blossom Princess Melani Nauta Borja and Junior Cherry Blossom Princess Aria Weilbacher on their selection to represent the Guam Society in the coming new year. \n\n  \n\nPlease contact the Society at cherryblossom@guamsocietyinc.org if you have any questions.
URL:https://guamsocietyinc.org/event/2025-cherry-blossom-coronation-ball/
LOCATION:Country Club of Fairfax\, 5110 Ox Road\, Fairfax\, 22030\, United States
ORGANIZER;CN="Guam Society of America%2C Inc.":MAILTO:info@guamsocietyinc.org
END:VEVENT
END:VCALENDAR