BEGIN:VCALENDAR
VERSION:2.0
PRODID:-//Guam Society of America, Inc. - ECPv6.15.20//NONSGML v1.0//EN
CALSCALE:GREGORIAN
METHOD:PUBLISH
X-ORIGINAL-URL:https://guamsocietyinc.org
X-WR-CALDESC:Events for Guam Society of America, Inc.
REFRESH-INTERVAL;VALUE=DURATION:PT1H
X-Robots-Tag:noindex
X-PUBLISHED-TTL:PT1H
BEGIN:VTIMEZONE
TZID:America/New_York
BEGIN:DAYLIGHT
TZOFFSETFROM:-0500
TZOFFSETTO:-0400
TZNAME:EDT
DTSTART:20240310T070000
END:DAYLIGHT
BEGIN:STANDARD
TZOFFSETFROM:-0400
TZOFFSETTO:-0500
TZNAME:EST
DTSTART:20241103T060000
END:STANDARD
BEGIN:DAYLIGHT
TZOFFSETFROM:-0500
TZOFFSETTO:-0400
TZNAME:EDT
DTSTART:20250309T070000
END:DAYLIGHT
BEGIN:STANDARD
TZOFFSETFROM:-0400
TZOFFSETTO:-0500
TZNAME:EST
DTSTART:20251102T060000
END:STANDARD
BEGIN:DAYLIGHT
TZOFFSETFROM:-0500
TZOFFSETTO:-0400
TZNAME:EDT
DTSTART:20260308T070000
END:DAYLIGHT
BEGIN:STANDARD
TZOFFSETFROM:-0400
TZOFFSETTO:-0500
TZNAME:EST
DTSTART:20261101T060000
END:STANDARD
END:VTIMEZONE
BEGIN:VEVENT
DTSTART;TZID=America/New_York:20250510T120000
DTEND;TZID=America/New_York:20250510T140000
DTSTAMP:20260424T035500
CREATED:20250113T210147Z
LAST-MODIFIED:20250307T015127Z
UID:4026-1746878400-1746885600@guamsocietyinc.org
SUMMARY:2nd Quarter\, General Membership Meeting
DESCRIPTION:
URL:https://guamsocietyinc.org/event/2nd-quarter-general-membership-meeting/
LOCATION:Residence of Char and Mel Harris\, 226 Marina View Court\, Baltimore\, MD\, 21221\, United States
ORGANIZER;CN="Guam Society of America%2C Inc.":MAILTO:info@guamsocietyinc.org
END:VEVENT
END:VCALENDAR