BEGIN:VCALENDAR
VERSION:2.0
PRODID:-//Guam Society of America, Inc. - ECPv6.15.20//NONSGML v1.0//EN
CALSCALE:GREGORIAN
METHOD:PUBLISH
X-ORIGINAL-URL:https://guamsocietyinc.org
X-WR-CALDESC:Events for Guam Society of America, Inc.
REFRESH-INTERVAL;VALUE=DURATION:PT1H
X-Robots-Tag:noindex
X-PUBLISHED-TTL:PT1H
BEGIN:VTIMEZONE
TZID:America/New_York
BEGIN:DAYLIGHT
TZOFFSETFROM:-0500
TZOFFSETTO:-0400
TZNAME:EDT
DTSTART:20250309T070000
END:DAYLIGHT
BEGIN:STANDARD
TZOFFSETFROM:-0400
TZOFFSETTO:-0500
TZNAME:EST
DTSTART:20251102T060000
END:STANDARD
BEGIN:DAYLIGHT
TZOFFSETFROM:-0500
TZOFFSETTO:-0400
TZNAME:EDT
DTSTART:20260308T070000
END:DAYLIGHT
BEGIN:STANDARD
TZOFFSETFROM:-0400
TZOFFSETTO:-0500
TZNAME:EST
DTSTART:20261101T060000
END:STANDARD
BEGIN:DAYLIGHT
TZOFFSETFROM:-0500
TZOFFSETTO:-0400
TZNAME:EDT
DTSTART:20270314T070000
END:DAYLIGHT
BEGIN:STANDARD
TZOFFSETFROM:-0400
TZOFFSETTO:-0500
TZNAME:EST
DTSTART:20271107T060000
END:STANDARD
END:VTIMEZONE
BEGIN:VEVENT
DTSTART;TZID=America/New_York:20260207T120000
DTEND;TZID=America/New_York:20260207T143000
DTSTAMP:20260423T143259
CREATED:20260124T154335Z
LAST-MODIFIED:20260124T155056Z
UID:4465-1770465600-1770474600@guamsocietyinc.org
SUMMARY:1st Quarter\, 2026 General Membership Meeting
DESCRIPTION:1st Membership Meeting of the 2026 Guam Society Calendar Year \nAgenda\, Minutes will be posted and emailed to current members \nKey decisions and topics for discussion: \n2026 Budget Approval \n2026 Cherry Blossom Ball \n2026 Golf Tournament
URL:https://guamsocietyinc.org/event/1st-quarter-2026-general-membership-meeting/
LOCATION:TBD/Online\, United States
END:VEVENT
END:VCALENDAR