BEGIN:VCALENDAR
VERSION:2.0
PRODID:-//Guam Society of America, Inc. - ECPv6.15.20//NONSGML v1.0//EN
CALSCALE:GREGORIAN
METHOD:PUBLISH
X-WR-CALNAME:Guam Society of America, Inc.
X-ORIGINAL-URL:https://guamsocietyinc.org
X-WR-CALDESC:Events for Guam Society of America, Inc.
REFRESH-INTERVAL;VALUE=DURATION:PT1H
X-Robots-Tag:noindex
X-PUBLISHED-TTL:PT1H
BEGIN:VTIMEZONE
TZID:America/New_York
BEGIN:DAYLIGHT
TZOFFSETFROM:-0500
TZOFFSETTO:-0400
TZNAME:EDT
DTSTART:20250309T070000
END:DAYLIGHT
BEGIN:STANDARD
TZOFFSETFROM:-0400
TZOFFSETTO:-0500
TZNAME:EST
DTSTART:20251102T060000
END:STANDARD
BEGIN:DAYLIGHT
TZOFFSETFROM:-0500
TZOFFSETTO:-0400
TZNAME:EDT
DTSTART:20260308T070000
END:DAYLIGHT
BEGIN:STANDARD
TZOFFSETFROM:-0400
TZOFFSETTO:-0500
TZNAME:EST
DTSTART:20261101T060000
END:STANDARD
BEGIN:DAYLIGHT
TZOFFSETFROM:-0500
TZOFFSETTO:-0400
TZNAME:EDT
DTSTART:20270314T070000
END:DAYLIGHT
BEGIN:STANDARD
TZOFFSETFROM:-0400
TZOFFSETTO:-0500
TZNAME:EST
DTSTART:20271107T060000
END:STANDARD
END:VTIMEZONE
BEGIN:VEVENT
DTSTART;TZID=America/New_York:20260715T080000
DTEND;TZID=America/New_York:20260715T100000
DTSTAMP:20260423T160743
CREATED:20260124T155344Z
LAST-MODIFIED:20260124T155344Z
UID:4473-1784102400-1784109600@guamsocietyinc.org
SUMMARY:Guam Congressional Office Liberation Wreath Laying
DESCRIPTION:
URL:https://guamsocietyinc.org/event/guam-congressional-office-liberation-wreath-laying/
LOCATION:Arlington National Cemetery\, 1 Wilson Ave\, Arlington National Cemetery\, Arlington\, VA\, 22211\, United States
END:VEVENT
BEGIN:VEVENT
DTSTART;TZID=America/New_York:20260718T120000
DTEND;TZID=America/New_York:20260718T173000
DTSTAMP:20260423T160743
CREATED:20260124T155510Z
LAST-MODIFIED:20260124T155510Z
UID:4476-1784376000-1784395800@guamsocietyinc.org
SUMMARY:2026 Guam Society Liberation Picnic
DESCRIPTION:
URL:https://guamsocietyinc.org/event/2026-guam-society-liberation-picnic/
LOCATION:Fort Hunt National Park\, Alexandria\, VA
ORGANIZER;CN="Guam Society of America%2C Inc.":MAILTO:info@guamsocietyinc.org
END:VEVENT
END:VCALENDAR